BEGIN:VCALENDAR
VERSION:2.0
PRODID:-//The Land - ECPv6.5.1.4//NONSGML v1.0//EN
CALSCALE:GREGORIAN
METHOD:PUBLISH
X-ORIGINAL-URL:https://thelandcle.org
X-WR-CALDESC:Events for The Land
REFRESH-INTERVAL;VALUE=DURATION:PT1H
X-Robots-Tag:noindex
X-PUBLISHED-TTL:PT1H
BEGIN:VTIMEZONE
TZID:America/Toronto
BEGIN:DAYLIGHT
TZOFFSETFROM:-0500
TZOFFSETTO:-0400
TZNAME:EDT
DTSTART:20260308T070000
END:DAYLIGHT
BEGIN:STANDARD
TZOFFSETFROM:-0400
TZOFFSETTO:-0500
TZNAME:EST
DTSTART:20261101T060000
END:STANDARD
END:VTIMEZONE
BEGIN:VEVENT
DTSTART;TZID=America/Toronto:20260317T130000
DTEND;TZID=America/Toronto:20260317T150000
DTSTAMP:20260422T094320
CREATED:20260303T174037Z
LAST-MODIFIED:20260303T174037Z
UID:14834-1773752400-1773759600@thelandcle.org
SUMMARY:Cleveland St. Patrick's Day Parade
DESCRIPTION:This year’s parade starts at the intersection of Superior Avenue and E. 18th Street. The procession will travel southwest down Superior to West Roadway. The festivities will continue northwest on West Roadway before going northeast on Rockwell Avenue. The parade will end at the intersection of Rockwell and Ontario Street.
URL:https://thelandcle.org/event/cleveland-st-patricks-day-parade/
LOCATION:Downtown Cleveland
END:VEVENT
BEGIN:VEVENT
DTSTART;TZID=America/Toronto:20260321T120000
DTEND;TZID=America/Toronto:20260321T150000
DTSTAMP:20260422T094320
CREATED:20260209T133753Z
LAST-MODIFIED:20260209T133804Z
UID:14667-1774094400-1774105200@thelandcle.org
SUMMARY:Eid al-Fitr celebration at Cleveland Public Library
DESCRIPTION:The Cleveland Public Library’s Impact and Belonging Department would like to invite you to join us on March 21\, 2026\, for a Community Eid celebration. The celebration includes food\, entertainment and activities!
URL:https://thelandcle.org/event/eid-al-fitr-celebration-at-cleveland-public-library/
LOCATION:Eastman Campus of CPL\, 11602 Lorain Ave.\, Cleveland\, OH\, 44111\, United States
END:VEVENT
BEGIN:VEVENT
DTSTART;TZID=America/Toronto:20260327T171500
DTEND;TZID=America/Toronto:20260327T200000
DTSTAMP:20260422T094320
CREATED:20260325T181248Z
LAST-MODIFIED:20260325T181248Z
UID:14964-1774631700-1774641600@thelandcle.org
SUMMARY:Hoops 4 Hunger basketball game
DESCRIPTION:Cuyahoga DD’s Hoops 4 Hunger basketball game is this Friday\, March 27. The Cuyahgoa DD staff team\, the Sharks\, will face off against the Special Olympics State Champion Cuyahoga Rockets. \nDetails: \nWhere – Green Road Gymnasium\, 4329 Green Rd\, Cleveland\, OH 44128 \nTime – Doors Open at 5:15p\, Tip-Off at 6:30p \nAdmission – $5.00 \n\nWe will have a concession stand\, 50/50 raffle\, and more!
URL:https://thelandcle.org/event/hoops-4-hunger-basketball-game/
LOCATION:Green Road Gym
END:VEVENT
BEGIN:VEVENT
DTSTART;VALUE=DATE:20260409
DTEND;VALUE=DATE:20260419
DTSTAMP:20260422T094320
CREATED:20260406T142256Z
LAST-MODIFIED:20260406T142256Z
UID:15089-1775692800-1776556799@thelandcle.org
SUMMARY:CIFF 50
DESCRIPTION:Tickets and passes are on sale now.  CIFF50 Streams – online access to the Festival’s biggest and best AFTER the initial run – begins April 19 and continues through April 26. \n  \n\n\n\nFestival Dates: April 9-18\, 2026\n\n\n\n\nFestival Locations: \n\n\n\n\nPlayhouse Square | 1511 Euclid Avenue\, Cleveland\, OH 44115\nCSU School of Film & Media Arts | 1375 Euclid Ave 6th floor\, Cleveland\, OH 44115\nCedar Lee Theatre | 2163 Lee Rd\, Cleveland Heights\, OH 44118\n\n\nCIFF50 Film Guide: Available online noon\, March 2 at www.clevelandfilm.org
URL:https://thelandcle.org/event/ciff-50/
LOCATION:OH
END:VEVENT
BEGIN:VEVENT
DTSTART;TZID=America/Toronto:20260422T203000
DTEND;TZID=America/Toronto:20260422T220000
DTSTAMP:20260422T094320
CREATED:20260406T141940Z
LAST-MODIFIED:20260406T141940Z
UID:15086-1776889800-1776895200@thelandcle.org
SUMMARY:Masters of American Music series: Ray Charles
DESCRIPTION:Roots of American Music (ROOTS) continues its Masters of American Music series with a tribute to Ray Charles on Wednesday\, April 22 at 8:30 p.m. at Visible Voice Books. \nThis live music series blends performance with storytelling\, bringing the legacy of influential artists to life in an intimate setting. More than a concert\, Masters of American Music offers a window into ROOTS’ mission in action—connecting communities through music while exploring the people and stories that shape America’s musical traditions. \nModeled on the organization’s work in classrooms and community spaces\, each performance reflects the same approach ROOTS brings to its educational programming: engaging audiences through history\, culture\, and sound. Supporters can see firsthand how ROOTS uses music as a tool for connection\, learning\, and inspiration. \nROOTS’ impact extends far beyond the stage. Programs like Blues is the Backbone—which reached 775 students across 16 schools this past year—bring this work directly into Northeast Ohio classrooms\, ensuring young people have access to America’s musical heritage. While distinct from the performance series\, these programs share the same purpose: using music to educate\, inspire\, and build community. \nMasters of American Music debuted in March with a tribute to Memphis Minnie featuring ROOTS Founder Kevin T. Richards\, alongside Kari Rutushin and Dallas Coffey. This second installment marks an exciting continuation of the series and reflects a new chapter for ROOTS—one that invites the public to experience its mission in a new\, more visible way. \nThe April performance features vocalist Evelyn Wright and pianist Joe Hunter interpreting the music of Ray Charles—one of the most groundbreaking figures in American music\, known for classics like “What’d I Say\,” “Georgia on My Mind\,” and “Hit the Road Jack.” Wright’s powerful voice\, rooted in gospel and soul\, paired with Hunter’s dynamic piano style grounded in jazz and R&B\, brings both the musical brilliance and emotional depth of Charles’s work to life. \nThe community is invited to this one-night celebration on the fourth Wednesday of the month at Visible Voice Books. Admission is $15 at the door\, and proceeds support ROOTS’ music education and community programs across Northeast Ohio. \nBeautiful music\, a meaningful mission\, and a great night out all in one place!
URL:https://thelandcle.org/event/masters-of-american-music-series-ray-charles/
LOCATION:Visible Voice Books\, 4601 Lorain Avenue\, Cleveland
END:VEVENT
BEGIN:VEVENT
DTSTART;TZID=America/Toronto:20260426T090000
DTEND;TZID=America/Toronto:20260426T160000
DTSTAMP:20260422T094320
CREATED:20260420T125601Z
LAST-MODIFIED:20260420T125601Z
UID:15170-1777194000-1777219200@thelandcle.org
SUMMARY:U.S. Navy STEM Engagement\, Veteran Hike
DESCRIPTION:The U.S. Navy will join Northeast Ohio leaders\, students\, and veterans for a day of STEM engagement and outdoor community connection on Sunday\, April 26\, including a visit to the Girl Scouts of North East Ohio STEM Center of Excellence and a group hike at Cuyahoga Valley National Park. \nThe visit brings Navy leadership into the region as part of National Parks Navy Week\, a nationwide initiative celebrating the nation’s 250th anniversary and strengthening connections between Sailors and the communities they serve. \nSTEM Center Visit and Student Engagement\nWHEN: 9:00 AM – 11:45 AM (ET) \nWHERE: Girl Scouts of North East Ohio STEM Center of Excellence at Camp Ledgewood\n6751 Akron Peninsula Rd\, Peninsula\, OH \nWHO: \n\nRear Adm. Tracy Hines\, U.S. Navy\nJane Christyson\, CEO\, Girl Scouts of North East Ohio\nLocal students\, board members\, and community partners\n\nDETAILS: Rear Adm. Hines will tour the STEM Center of Excellence and receive a briefing on its programs before working directly with students on coding and robotics activities. Sailor participation will support students as they work toward earning STEM badges. \n  \nTowpath Trail Community Hike \nWHEN: 2:00 PM – 4:00 PM (ET)\nWHERE: Boston Mills Visitor Center\n6947 Riverview Road\, Peninsula\, OH \nWHO: \n\nRear Adm. Tracy Hines\nDr. Saira Ismail\nNational Park Service Rangers\nLocal veterans\n\nDETAILS: Rear Adm. Hines will join park rangers and veterans for a guided hike along the Towpath Trail\, an approximately three-mile route within Cuyahoga Valley National Park\, highlighting the connection between service\, wellness\, and public lands. \nWHY: National Parks Navy Week brings Sailors to communities across the country through outreach\, education\, and service. As the nation approaches its 250th anniversary\, events like these reflect a shared commitment to leadership\, learning\, and connection—right here in Northeast Ohio.
URL:https://thelandcle.org/event/u-s-navy-stem-engagement-veteran-hike/
LOCATION:OH
END:VEVENT
BEGIN:VEVENT
DTSTART;TZID=America/Toronto:20260429T180000
DTEND;TZID=America/Toronto:20260429T191500
DTSTAMP:20260422T094320
CREATED:20260303T173011Z
LAST-MODIFIED:20260303T173011Z
UID:14827-1777485600-1777490100@thelandcle.org
SUMMARY:"Bite by Bite" Guided Tasting
DESCRIPTION:Enjoy a unique tasting experience with award-winning author Aimee Nezhukumatathil. As you sample flavors\, Aimee will guide you in a writing prompt to spark creativity and reflection. Together\, we’ll explore how food and language can inspire new ways of seeing and storytelling.
URL:https://thelandcle.org/event/bite-by-bite-guided-tasting/
LOCATION:Cleveland Public Library – Main Library\, Downtown\, 325 Superior Avenue\, Cleveland\, OH\, United States
END:VEVENT
BEGIN:VEVENT
DTSTART;TZID=America/Toronto:20260430T113000
DTEND;TZID=America/Toronto:20260430T130000
DTSTAMP:20260422T094320
CREATED:20260303T173112Z
LAST-MODIFIED:20260303T173112Z
UID:14829-1777548600-1777554000@thelandcle.org
SUMMARY:Conversation with Aimee Nezhukumatathil at City Club
DESCRIPTION:Join us at the City Club for The Power of Food\, Memory\, and the Joy of Being Present: A Conversation with Author & Poet Aimee Nezhukumatathil. The forum will be available in person and via livestream\, and will be recorded and shared on the City Club website.
URL:https://thelandcle.org/event/conversation-with-aimee-nezhukumatathil-at-city-club/
LOCATION:City Club of Cleveland
END:VEVENT
BEGIN:VEVENT
DTSTART;VALUE=DATE:20260501
DTEND;VALUE=DATE:20260726
DTSTAMP:20260422T094320
CREATED:20260216T165249Z
LAST-MODIFIED:20260220T135304Z
UID:14721-1777593600-1785023999@thelandcle.org
SUMMARY:Improper Frames at CMA's Transformer Station
DESCRIPTION:In partnership with Cleveland Print Room\, the Cleveland Museum of Art presents Improper Frames at Transformer Station\, the museum’s satellite location in Ohio City’s Hingetown neighborhood. On view from February 14 through May 10\, 2026\, this free exhibition brings together artists and photographers working through Cleveland’s internal boundaries\, partial views\, and shifting frames. Their works engage a city recently rendered legible through a comprehensive property inventory\, classifying and evaluating land across the city. The exhibition features work by Amber Ford\, Jon Gott\, Michael Indriolo\, Da’Shaunae Marisa\, Vivica Satterwhite\, and Alejandro Vergara\, and is curated by Theodossis Issaias.
URL:https://thelandcle.org/event/improper-frames-at-cmas-transformer-station/
LOCATION:Transformer Station
END:VEVENT
BEGIN:VEVENT
DTSTART;TZID=America/Toronto:20260501T193000
DTEND;TZID=America/Toronto:20260501T213000
DTSTAMP:20260422T094320
CREATED:20260406T141644Z
LAST-MODIFIED:20260406T141644Z
UID:15083-1777663800-1777671000@thelandcle.org
SUMMARY:Cleveland Jazz Orchestra revisits Woodstock
DESCRIPTION:On Friday\, May 1\, the Cleveland Jazz Orchestra will perform a jazz-infused version of the seminal music festival: Woodstock. For its final concert of the season\, the CJO will lead Clevelanders on a magical\, mystery tour of Woodstock classics. Jazz greatly influenced many of the musicians synonymous with the music festival that set the bar for decades to come. \nThe evening at the Maltz Performing Arts Center features the full CJO brass band reinterpreting Santana\, Sly Stone\, Jimi Hendrix\, and Credence Clear Water Revival. Arrangements by Artistic Director Paul Ferguson will feature solos by trumpeters Jack Schantz and Scott McKee; trombonist Chris Anderson; saxophonists Brad Wagner and Chris Burge. Local luminaries Jackie Warren\, Aidan Plank\, Dan Bruce\, and Dustin May will round out the percussion section. \nJoining the CJO is Clevelander and Tony Award® Nominee Mary Bridget Davies. Davies received  rave reviews and a Tony nomination for her tribute to Janis Joplin\, “A Night with Janis Joplin”.  The CJO is proud to accompany her on such songs as\, “Piece of My Heart” and “Try a Little  Harder”. Ferguson will also arrange the jazz accompaniments for the Joplin selections. “Mary  Bridget Davies sang with the CJO about 8 years ago at a private party and she was outstanding.  I’ve been wanting to do a concert like this for several years—it connects beautifully with the  many styles of jazz we try to cover with the CJO.”  \nThe Cleveland Jazz Orchestra regularly premieres new jazz compositions at its concerts. This  final concert of the 25-26 season will include a work by bassist Aidan Plank. “The name of my  new piece is ‘Billy’\,” Plank offered\, “is a tribute to Billy Strayhorn. This will be the first time the  CJO has performed the work\, and the piece is featured on my upcoming album “Where We  Started” which will be released on Hidden Cinema Records on April 24\, 2026.”  \nThe Cleveland Jazz Orchestra is Northeast Ohio’s premier jazz voice since 1985. Through  inventive arrangements and original music\, the CJO brings audiences the best jazz they’ve ever  heard and the best jazz they’ve never heard. We are celebrating our 41st season.   \nFor more information please contact Theresa Lesh\, Cleveland Jazz Orchestra Managing Director.  To purchase tickets contact the Maltz Performing Arts Center box office or visit:  https://bit.ly/CJO2526Woodstock.  
URL:https://thelandcle.org/event/cleveland-jazz-orchestra-revisits-woodstock/
LOCATION:Milton and Tamar Maltz Performing Arts Center\, 1855 Ansel Rd\, Cleveland\, OH 44106\, USA
END:VEVENT
BEGIN:VEVENT
DTSTART;TZID=America/Toronto:20260509T083000
DTEND;TZID=America/Toronto:20260509T170000
DTSTAMP:20260422T094320
CREATED:20260408T215007Z
LAST-MODIFIED:20260408T215007Z
UID:15102-1778315400-1778346000@thelandcle.org
SUMMARY:Community Festival and Walk
DESCRIPTION:The Diversity Center of Northeast Ohio (DCNEO) invites you\, your family\, and your neighbors to join us at  the DCNEO Community Festival & Walk on Saturday\, May 9\, 2026. Formerly known as Walk\, Rock\, Roll &  Run\, this year’s event returns to the Great Lakes Science Center with a renewed focus on what matters  most: connection\, community\, and the simple belief that everyone deserves to belong.  \nIn addition to the Walk\, there will be family-friendly interactive activities on the plaza as well as free  admission to the Great Lakes Science Center (day of the event only) and discounted admission to the  Rock and Roll Hall of Fame.  \nEvent Details  \n\nWhen: Saturday\, May 9\, 2026 \nWhere: Great Lakes Science Center (601 Erieside Ave\, Cleveland\, Ohio 44114) • Time: 8:30 a.m. (Walk begins) \nCost: FREE and open to the public \n\nWhile the event is free\, those looking to deepen their impact can start a walking team to fundraise.  Whether it’s a group of coworkers\, a faith community\, or just a band of friends\, your contributions ensure  DCNEO’s programs remain accessible to youth and organizations throughout our region. These  programs:  \n\nEquip students and educators with leadership skills. \nStrengthen workplaces through inclusive dialogue. \nFoster deep community connections across all lines of identity. \n\nFor further information\, visit our website –  \nhttps://diversitycenterneo.org/events/communityfestivalandwalk/ 
URL:https://thelandcle.org/event/community-festival-and-walk/
LOCATION:OH
END:VEVENT
BEGIN:VEVENT
DTSTART;TZID=America/Toronto:20260509T190000
DTEND;TZID=America/Toronto:20260510T000000
DTSTAMP:20260422T094320
CREATED:20260420T200613Z
LAST-MODIFIED:20260420T200613Z
UID:15180-1778353200-1778371200@thelandcle.org
SUMMARY:2026 Ingenuity Bal: Daydreamery
DESCRIPTION:The annual Ingenuity Bal is a whimsical gala unlike anything else in town\, supporting Ingenuity’s year-round programming. Once known as the Bal Ingenieux\, the event pays homage to Cleveland’s exclusive arts club that dominated modernist arts in the city from the 1910s until the 1940s. The Kokoon Club’s annual “Bal Masque” challenged artistic norms with the most unconventional parties around. \nOn May 9\, Ingenuity Bal 2026: Daydreamery will kick off Ingenuity’s festival season with performances\, art\, participatory experiences and more to celebrate hope\, progress and the shared dreams of our creative community\, while celebrating the vast tapestry of ideas and perspectives that make us special. \nEnjoy delightful snacks and cocktails while mingling and dancing with IngenuityLabs members\, Ingeneers\, Ingenuity Board Members\, and the rest of the eclectic Ingenuity family and friends. Dress up\, dress down\, wear a mask or a costume inspired by the theme…let your daydreams run wild!
URL:https://thelandcle.org/event/2026-ingenuity-bal-daydreamery/
LOCATION:OH
END:VEVENT
BEGIN:VEVENT
DTSTART;TZID=America/Toronto:20260515T180000
DTEND;TZID=America/Toronto:20260515T200000
DTSTAMP:20260422T094320
CREATED:20260420T195941Z
LAST-MODIFIED:20260420T195941Z
UID:15174-1778868000-1778875200@thelandcle.org
SUMMARY:" Embrace: Poetry That Undresses the Silence" Book Launch
DESCRIPTION:Readers\, writers\, and lovers of contemporary poetry are invited to an intimate evening of storytelling\, reflection\, and artistic expression as four poets celebrate the release of Embrace: Poetry That Undresses the Silence. \nThe event will take place Friday\, May 15 from 6:00–8:00 PM at The Vault at Metropolitan 9\, located at 2017 East 9th Street in downtown Cleveland. \nEmbrace\, a collaborative collection by authors Lori Bellman\, Chrissy Costa\, Renée Kogler\, and Erika Roman Saint-Pierre\, explores themes of identity\, womanhood\, sensuality\, healing\, and self-expression. Written from diverse cultural\, racial\, and personal perspectives\, the collection offers contemporary poetry that moves between vulnerability and strength\, intimacy and independence\, inviting readers to reflect on shared emotional and cultural experiences. \nGuests will step into a warm and inviting atmosphere designed to celebrate creativity and connection. Set against the swanky backdrop of The Vault\, the evening will immerse attendees in poetic storytelling\, vivid imagery\, and artistic conversation that honors the complexity and power of women’s voices. \nThe evening begins at 6:00 PM with a signature welcome cocktail and time to mingle with fellow creatives and poetry enthusiasts. Guests will then experience a curated program including: \n\nIntimate readings of selected poetry by the authors of Embrace\nA champagne toast celebrating the release of the book\nPanel discussion and author Q&A\nBook signing and author meet-and-greet\nComplimentary tapas and canapés\n\n  \nThis immersive literary gathering invites guests not only to hear poetry\, but to feel the stories behind the words—moments that move between tenderness and power\, raw honesty and fierce independence.
URL:https://thelandcle.org/event/embrace-poetry-that-undresses-the-silence-book-launch/
LOCATION:OH
END:VEVENT
BEGIN:VEVENT
DTSTART;TZID=America/Toronto:20260613T100000
DTEND;TZID=America/Toronto:20260613T150000
DTSTAMP:20260422T094320
CREATED:20260420T200227Z
LAST-MODIFIED:20260420T200227Z
UID:15176-1781344800-1781362800@thelandcle.org
SUMMARY:Parade the Circle
DESCRIPTION:The day begins at 10:00 a.m. with Circle Village on Wade Oval\, presented by University Circle Inc. Visitors are invited to immerse themselves in interactive activities offered by esteemed institutions from the area\, such as the Cleveland Orchestra\, Cleveland Botanical Garden\, and the Music Settlement. \nThe Cleveland Museum of Art’s (CMA) Parade the Circle\, the beloved tradition celebrating art\, culture\, and community\, returns on Saturday\, June 13\, 2026. The 34th annual parade takes place in University Circle and features vibrant and imaginative costumes\, towering puppets\, floats\, and intricately crafted masks. This year’s event coincides with the CMA’s 110th anniversary as an institution and the United States Semiquincentennial. \nThis year’s theme\, “Momentum\,” is inspired by the special exhibition American Printed Silks\, 1927–1947\, the lived experience of acclaimed lead artist Héctor Castellanos Lara\, and the legacy and evolution of our creative community. Those interested in participating are highly encouraged to view the exhibition. \n“I grew up between sewing machines. Surrounded by women\, transforming fabric to be worn. Hands\, colors\, and patterns chasing one another. My own strike of marbles clacking from the patio\, at play. \nThe exhibition American Printed Silks took me back to that room in Guatemala\, our own little industrial garment revolution\, my childhood home. Much like the textile designers of the early to mid-1900s\, I draw inspiration from the museum and use lived experiences to define my visual language. Our stories—some of sacrifice and resilience—are momentous and unyielding. \nBreathless and energized\, our own momentum pushes us to innovate. Let’s harness the power of this creative energy together\, express ourselves\, and keep celebrating. Creativity in motion stays in motion. What story will you bring to the parade?” \nParade the Circle\, which was founded by the CMA in 1990 with a small number of artists\, has since grown to become a treasured large-scale event\, drawing crowds in the tens of thousands every June. Families\, friends\, neighbors\, community groups\, churches\, artists\, performers—everyone is welcome to express their creativity\, show their talent\, and celebrate the arts at Parade the Circle. Every year\, unique and magnificent parade designs delight participants and attendees alike. Watching the parade is free for all.
URL:https://thelandcle.org/event/parade-the-circle-2/
LOCATION:OH
END:VEVENT
BEGIN:VEVENT
DTSTART;TZID=America/Toronto:20260613T180000
DTEND;TZID=America/Toronto:20260613T220000
DTSTAMP:20260422T094320
CREATED:20260420T194300Z
LAST-MODIFIED:20260420T194300Z
UID:15172-1781373600-1781388000@thelandcle.org
SUMMARY:“Cultivating A Better Tomorrow”: Community Life Collaborative's Gala
DESCRIPTION:“Cultivating A Better Tomorrow” brings together local leaders and supporters for an evening of food\, live music\, and fundraising to support social and environmental justice initiatives in Northeast Ohio. \nEvent Details: \nDate: Saturday\, June 13\, 2026 \nTime: 6:00 – 10:00 p.m. \nLocation: Family Life Center\, 16349 Chillicothe Road\, Chagrin Falls \nPlease let me know if you’d like additional information or to connect with organizers. \n  \nCommunity Life Collaborative (CLC) will host its 5th Annual Garden Gala\, Cultivating A Better Tomorrow\, on Saturday\, June 13\, 2026\, from 6:00 to 10:00 p.m. at the Family Life Center in Chagrin Falls. The fundraiser brings together community leaders\, supporters\, and partners to advance social and environmental justice throughout Northeast Ohio. The event features food stations\, live music by Up’Til4\, silent auctions\, the wine pull and a dessert dash\, each designed to engage guests while supporting the mission. \nNow in its fifth year\, the Garden Gala is expected to sell out and aims to raise funds to support CLC’s mission of building healthier\, more equitable communities through collaboration\, education\, and collective action. Funds raised will directly support programs and initiatives that strengthen community well-being\, expand leadership pathways\, and foster safer\, healthier neighborhoods\, particularly for historically marginalized communities. \n“Cultivating a better tomorrow starts with the relationships we build today\,” said Destinee Burse\, Executive Director of the CLC. “When we connect people and organizations across sectors and lived experiences through programs such as our community education workshops and green youth immersions\, we create the conditions for lasting social and environmental change that benefits everyone.” \nAs a regional hub for social and environmental justice collaboration\, CLC works to eliminate silos between people\, organizations\, and resources. Through its commitment to engage\, partner\, and transform\, CLC is helping shape a more connected\, resilient\, and inclusive Northeast Ohio\, one relationship at a time.
URL:https://thelandcle.org/event/cultivating-a-better-tomorrow-community-life-collaboratives-gala/
LOCATION:OH
END:VEVENT
BEGIN:VEVENT
DTSTART;TZID=America/Toronto:20260620T120000
DTEND;TZID=America/Toronto:20260620T160000
DTSTAMP:20260422T094320
CREATED:20260420T200828Z
LAST-MODIFIED:20260420T200828Z
UID:15182-1781956800-1781971200@thelandcle.org
SUMMARY:2026 CLE Indie Author Expo
DESCRIPTION:
URL:https://thelandcle.org/event/2026-cle-indie-author-expo/
LOCATION:Breakthrough Sounds Recording Studio\, 7615 Granger Road\, Valley View\, OH\, 44125\, United States
END:VEVENT
BEGIN:VEVENT
DTSTART;TZID=America/Toronto:20260620T190000
DTEND;TZID=America/Toronto:20260621T000000
DTSTAMP:20260422T094320
CREATED:20260420T200427Z
LAST-MODIFIED:20260420T200427Z
UID:15178-1781982000-1782000000@thelandcle.org
SUMMARY:Solstice at the Cleveland Museum of Art
DESCRIPTION:The Cleveland Museum of Art’s (CMA) 15th annual Solstice\, the city’s most anticipated summer spectacular\, takes place on Saturday\, June 20\, from 7:00 p.m. to 12:00 a.m. Celebrating long summer days and hot summer nights\, Solstice combines music\, art\, dance\, and fun for an unforgettable evening. Experience the CMA late into the night when galleries stay open\, with flash talks presented by museum staff in select galleries\, and visit the CMA’s ticketed exhibitions\, Manet & Morisot and Martin Puryear: Nexus. \nAll-inclusive tickets—covering admission as well as unlimited appetizers and beverages\, including beer\, wine\, and canned cocktails—go on sale for members at 9:00 a.m. on Wednesday\, April 22\, followed by the public sale at 9:00 a.m. on Thursday\, April 23. This event is for guests 21 or older. Early ticket purchasing is recommended as this event is expected to sell out. \nThis year\, Solstice’s main stage is a vibrant celebration of North America’s multicultural mosaic. Cirque FLIP Fabrique (Canada) kicks off the outdoor entertainment on the museum’s south terrace with acrobatics performed on top of a retrofitted school bus. Then\, live music sets from Daymé Arocena (Cuba)\, Son Rompe Pera (Mexico)\, and Nik West (United States) follow. These three electrifying musical acts showcase African diasporic party music\, including Afro-Latin jazz\, cumbia\, and funk. NicNacc and Eso\, two prolific Cleveland-based DJ’s famous for their monthly dance parties\, take over the atrium. Projections\, light displays\, and decorations electrify the museum.\n\n\nSouth Terrace Lineup \n\n7:45–8:15 p.m.: Cirque FLIP Fabrique\n8:15–9:15 p.m.: Daymé Arocena\n9:30–10:30 p.m.: Son Rompe Pera\n10:45 p.m.–12:00 a.m.: Nik West\n\nAmes Family Atrium DJ Lineup: 7:00 p.m.–12:00 a.m. \n\nNicNacc\nEso\nSpecial guests to be announced
URL:https://thelandcle.org/event/solstice-at-the-cleveland-museum-of-art-2/
LOCATION:OH
END:VEVENT
BEGIN:VEVENT
DTSTART;TZID=America/Toronto:20260718T083000
DTEND;TZID=America/Toronto:20260718T170000
DTSTAMP:20260422T094320
CREATED:20260206T194244Z
LAST-MODIFIED:20260206T194244Z
UID:14654-1784363400-1784394000@thelandcle.org
SUMMARY:Habitat Walk Run Mosey for Homes
DESCRIPTION:It’s time to start stretching! The Habitat Walk\, Run\, Mosey is Saturday\, July 18th@ Edgewater- and it’s FREE to participate.\nThree ways to participate- 5K run/walk OR a 1-mile fun walk OR come for fellowship and have a coffee and donut with us.\nHabitat Walk Run Mosey for Homes \nSaturday\, July 18\,2026\nLower Edgewater by the beach house\nFREE to participate\n8:30 check-in and activities & fun commence\n9:45 t-shirt decorating contest\n10:05 run steps off \nThe Walk has music\, games\, face painting\, hair spraying\, tattoos\, free coffee\, juice\, water\, snacks\, and DONUTS.\nWe also have the signature t-shirt decorating and morning yoga to center us —so we can have maximum FUN…and we would not forget the pups. There will be a tent with water and snacks for our fourlegged friends.
URL:https://thelandcle.org/event/habitat-walk-run-mosey-for-homes/
LOCATION:OH
END:VEVENT
END:VCALENDAR